BEGIN:VCALENDAR
VERSION:2.0
CALSCALE:GREGORIAN
PRODID:adamgibbons/ics
METHOD:PUBLISH
X-PUBLISHED-TTL:PT1H
BEGIN:VEVENT
UID:27359@mad.convoca.la
SUMMARY:Asamblea Abierta Colectivo Bisexual Taberna Bi
DTSTAMP:20260424T145000Z
DTSTART:20260426T110000Z
DESCRIPTION:🌟Asamblea abierta de BI-envenida🌟\n\n\n\nLa primavera\, la sang
	re altera... Y tenemos motivos suficientes para estar\nalterades. Organíza
	te con otres bibolleres en nuestra asamblea abierta de este\ndomingo. Vent
	e sole o con amigues\, os contaremos cómo funciona el colectivo y\ncómo po
	déis ser parte de él.\n\n\n\n📅 domingo 26 de abril\n\n🕐 a las 13:00h\n\n📍e
	n la primera planta del @cso_larosa \, C/ del Bastero\, 1 (metro La Latina
	)\n\n\n\n⚠️ Esta sala NO es accesible (escaleras).\n\n🩷 Asamblea no mixta\,
	 para personas bi o en cuestionamiento (sin hombres cis).\n\n💜 Este colect
	ivo es un Espacio Libre de Apartheid Israelí. 🇵🇸 Boicoteamos las\nempresas 
	y marcas que apoyan el etnoestado genocida de Israel y nos posicionamos\na
	 favor de la lucha del pueblo palestino\, por el fin de la ocupación\, por
	 el\nderecho al retorno a la Palestina histórica\, libre desde el río hast
	a el mar.\n\n💙 Os esperamos!!!
URL:https://mad.convoca.la/event/asamblea-abierta-colectivo-bisexual-tabern
	a-bi
GEO:40.40945;-3.70965
LOCATION:CSO La Rosa - Calle Bastero 1
STATUS:CONFIRMED
CATEGORIES:
X-ALT-DESC;FMTTYPE=text/html:<p>🌟Asamblea abierta de BI-envenida🌟</p><p></p
	><p>La primavera, la sangre altera... Y tenemos motivos suficientes para e
	star alterades. Organízate con otres bibolleres en nuestra asamblea abiert
	a de este domingo. Vente sole o con amigues, os contaremos cómo funciona e
	l colectivo y cómo podéis ser parte de él.</p><p></p><p>📅 domingo 26 de ab
	ril</p><p>🕐 a las 13:00h</p><p>📍en la primera planta del @cso_larosa , C/ 
	del Bastero, 1 (metro La Latina)</p><p></p><p>⚠️ Esta sala NO es accesible 
	(escaleras).</p><p>🩷 Asamblea no mixta, para personas bi o en cuestionamie
	nto (sin hombres cis).</p><p>💜 Este colectivo es un Espacio Libre de Apart
	heid Israelí. 🇵🇸 Boicoteamos las empresas y marcas que apoyan el etnoestado
	 genocida de Israel y nos posicionamos a favor de la lucha del pueblo pale
	stino, por el fin de la ocupación, por el derecho al retorno a la Palestin
	a histórica, libre desde el río hasta el mar.</p><p>💙 Os esperamos!!!</p>
BEGIN:VALARM
ACTION:DISPLAY
DESCRIPTION:Asamblea Abierta Colectivo Bisexual Taberna Bi
TRIGGER:-PT1H
END:VALARM
END:VEVENT
END:VCALENDAR
