BEGIN:VCALENDAR
VERSION:2.0
CALSCALE:GREGORIAN
PRODID:adamgibbons/ics
METHOD:PUBLISH
X-PUBLISHED-TTL:PT1H
BEGIN:VEVENT
UID:27031@mad.convoca.la
SUMMARY:Bailar el agua 🌊
DTSTAMP:20260421T043117Z
DTSTART:20260411T090000Z
DTEND:20260411T120000Z
DESCRIPTION:Laboratorio ciudadano para pensar el agua desde el cuerpo 💧\n\n
	Bailar el Agua es un proyecto de mediación cultural que invita a vecinas d
	e\nVallekas\, colectivos\, agentes culturales y personas curiosas a repens
	ar nuestra\nrelación con el agua en un contexto de crisis climática\, a tr
	avés del baile\, las\nartes escénicas y el diálogo con la ciencia\, propon
	emos convertir celebraciones\npopulares como la Batalla Naval\, donde el a
	gua es protagonista\, en espacios de\nexperimentación\, aprendizaje colect
	ivo y cuidado del territorio 🧜🏻‍♀️⚓️🌊💙\n\nno necesitas experiencia previa: solo
	 ganas de compartir\, imaginar y crear en\ncomunidad.\n\nsi te interesan e
	l agua\, el cuerpo y la acción colectiva\, este cauce es para ti\n💧 inscrí
	bete en este enlace: https://forms.gle/nkY6oByiUKGc5ERD6\n[https://forms.g
	le/nkY6oByiUKGc5ERD6]\n\n—-\n\nproyecto impulsado por el colectivo Baiven 
	y el Instituto de Procesos\nSostenibles de la Universidad de Valladolid\, 
	con el apoyo de la Fundación Daniel\ny Nina Carasso.\n\ndiseño: Lucía Moli
	ns
URL:https://mad.convoca.la/event/bailar-el-agua
GEO:40.388732;-3.666717
LOCATION:La Villana de Vallekas - Calle Sierra de alquife 12
STATUS:CONFIRMED
CATEGORIES:Taller,Danza,Investigación del movimiento,laboratorio ciudadano
X-ALT-DESC;FMTTYPE=text/html:<p><strong>Laboratorio ciudadano para pensar e
	l agua desde el cuerpo 💧</strong></p><p>Bailar el Agua es un proyecto de m
	ediación cultural que invita a vecinas de Vallekas, colectivos, agentes cu
	lturales y personas curiosas a repensar nuestra relación con el agua en un
	 contexto de crisis climática, a través del baile, las artes escénicas y e
	l diálogo con la ciencia, proponemos convertir celebraciones populares com
	o la Batalla Naval, donde el agua es protagonista, en espacios de experime
	ntación, aprendizaje colectivo y cuidado del territorio 🧜🏻‍♀️⚓️🌊💙</p><p>no nece
	sitas experiencia previa: solo ganas de compartir, imaginar y crear en com
	unidad.</p><p>si te interesan el agua, el cuerpo y la acción colectiva, es
	te cauce es para ti 💧 inscríbete en este enlace: <a target="_blank" href="
	https://forms.gle/nkY6oByiUKGc5ERD6">https://forms.gle/nkY6oByiUKGc5ERD6</
	a></p><p>—-</p><p>proyecto impulsado por el colectivo Baiven y el Institut
	o de Procesos Sostenibles de la Universidad de Valladolid, con el apoyo de
	 la Fundación Daniel y Nina Carasso.</p><p>diseño: Lucía Molins</p>
BEGIN:VALARM
ACTION:DISPLAY
DESCRIPTION:Bailar el agua 🌊
TRIGGER:-PT1H
END:VALARM
END:VEVENT
END:VCALENDAR
