BEGIN:VCALENDAR
VERSION:2.0
CALSCALE:GREGORIAN
PRODID:adamgibbons/ics
METHOD:PUBLISH
X-PUBLISHED-TTL:PT1H
BEGIN:VEVENT
UID:27024@mad.convoca.la
SUMMARY:Bookelarre: "Comerás flores"\, Lucía Sorolla
DTSTAMP:20260421T043424Z
DTSTART:20260314T110000Z
DTEND:20260314T130000Z
DESCRIPTION:El sábado 14 de marzo llega una nueva sesión de Bookelarre. El 
	club de lectura\nde y para mujeres se reunen para comentar "Comerás flores
	" y compartir café.\nComo lectura secundaria os proponen "Pura pasión"\, d
	e Annie Ernaux.\n\n¡No te lo pierdas!
URL:https://mad.convoca.la/event/bookelarre-comeras-flores-lucia-sorolla
GEO:40.410378;-3.7056227
LOCATION:Local Anarquista Magdalena - C. de las Dos Hermanas\, 11\, 28012 M
	adrid
STATUS:CONFIRMED
CATEGORIES:
X-ALT-DESC;FMTTYPE=text/html:<p>El sábado 14 de marzo llega una nueva sesió
	n de Bookelarre. El club de lectura de y para mujeres se reunen para comen
	tar "Comerás flores" y compartir café. Como lectura secundaria os proponen
	 "Pura pasión", de Annie Ernaux.</p><p>¡No te lo pierdas!</p>
BEGIN:VALARM
ACTION:DISPLAY
DESCRIPTION:Bookelarre: "Comerás flores", Lucía Sorolla
TRIGGER:-PT1H
END:VALARM
END:VEVENT
END:VCALENDAR
