BEGIN:VCALENDAR
VERSION:2.0
CALSCALE:GREGORIAN
PRODID:adamgibbons/ics
METHOD:PUBLISH
X-PUBLISHED-TTL:PT1H
BEGIN:VEVENT
UID:27023@mad.convoca.la
SUMMARY:Cinefórum de la Rosa
DTSTAMP:20260421T043145Z
DTSTART:20260309T180000Z
DTEND:20260309T203000Z
DESCRIPTION:Agarrando pueblo (1977)\, dir. Luis Ospina\, Carlos Mayolo + La
	 Libertad (2001)\,\ndir. Lisandro Alonso. Países: Colombia\, Argentina. Du
	ración total: 102 min.
URL:https://mad.convoca.la/event/cineforum-de-la-rosa-51
GEO:40.40945;-3.70965
LOCATION:CSO La Rosa - Calle Bastero 1
STATUS:CONFIRMED
CATEGORIES:
X-ALT-DESC;FMTTYPE=text/html:<p>Agarrando pueblo (1977), dir. Luis Ospina, 
	Carlos Mayolo + La Libertad (2001), dir. Lisandro Alonso. Países: Colombia
	, Argentina. Duración total: 102 min.</p>
BEGIN:VALARM
ACTION:DISPLAY
DESCRIPTION:Cinefórum de la Rosa
TRIGGER:-PT1H
END:VALARM
END:VEVENT
END:VCALENDAR
