BEGIN:VCALENDAR
VERSION:2.0
CALSCALE:GREGORIAN
PRODID:adamgibbons/ics
METHOD:PUBLISH
X-PUBLISHED-TTL:PT1H
BEGIN:VEVENT
UID:27358@mad.convoca.la
SUMMARY:Cinefórum de la Rosa
DTSTAMP:20260424T045648Z
DTSTART:20260427T170000Z
DTEND:20260427T193000Z
DESCRIPTION:Conspiradores del placer (1996)\, dir. Jan Švankmajer. País: Re
	pública Checa.\nDuración: 85 minutos. V.O.S.E.\n\nConspiradores del placer
	 ilumina la intimidad de sus personajes durante la\nmaquinación de distint
	os dispositivos eróticos. Buscando un fuera de campo\nrespecto al placer p
	refabricado del porno\, Svankmajer establece en este film un\ndiálogo con 
	Freud\, Buñuel\, Max Ernst y Leopold Sacher-Masoch.
URL:https://mad.convoca.la/event/cineforum-de-la-rosa-58
GEO:40.40945;-3.70965
LOCATION:CSO La Rosa - Calle Bastero 1
STATUS:CONFIRMED
CATEGORIES:
X-ALT-DESC;FMTTYPE=text/html:<p>Conspiradores del placer (1996), dir. Jan Š
	vankmajer. País: República Checa. Duración: 85 minutos. V.O.S.E.</p><p>Con
	spiradores del placer ilumina la intimidad de sus personajes durante la ma
	quinación de distintos dispositivos eróticos. Buscando un fuera de campo r
	especto al placer prefabricado del porno, Svankmajer establece en este fil
	m un diálogo con Freud, Buñuel, Max Ernst y Leopold Sacher-Masoch.</p>
BEGIN:VALARM
ACTION:DISPLAY
DESCRIPTION:Cinefórum de la Rosa
TRIGGER:-PT1H
END:VALARM
END:VEVENT
END:VCALENDAR
