BEGIN:VCALENDAR
VERSION:2.0
CALSCALE:GREGORIAN
PRODID:adamgibbons/ics
METHOD:PUBLISH
X-PUBLISHED-TTL:PT1H
BEGIN:VEVENT
UID:27326@mad.convoca.la
SUMMARY:Manifestación "Vivotecnia a juicio"
DTSTAMP:20260420T022745Z
DTSTART:20260509T160000Z
DTEND:20260509T180000Z
DESCRIPTION:La campaña Cerremos Vivotecnia por los animales\n[https://https
	://cerremosvivotecnia.noblogs.org/] convocamos una manifestación\,\nque re
	correrá las calles del centro de Madrid para seguir señalando la barbarie\
	ndel laboratorio Vivotecnia y promover la idea de "inocentes o culpables\,
	\néticamente inaceptables" que más allá de la resolución del juicio celebr
	ado los\ndías 7 y 8 de mayo.\n\n📅 Sábado 9 de mayo\n⌚18:00\n📍Desde Tribuna
	l a Ópera.\n
URL:https://mad.convoca.la/event/manifestacion-vivotecnia-a-juicio
LOCATION:Metro Tribunal a Ópera - Plaza Barceló
STATUS:CONFIRMED
CATEGORIES:
X-ALT-DESC;FMTTYPE=text/html:<p>La campaña <a target="_blank" href="https:/
	/https://cerremosvivotecnia.noblogs.org/">Cerremos Vivotecnia por los anim
	ales</a> convocamos una manifestación, que recorrerá las calles del centro
	 de Madrid para seguir señalando la barbarie del laboratorio Vivotecnia y 
	promover la idea de "inocentes o culpables, éticamente inaceptables" que m
	ás allá de la resolución del juicio celebrado los días 7 y 8 de mayo.</p><
	p>📅 Sábado 9 de mayo<br>⌚18:00<br>📍Desde Tribunal a Ópera.<br></p>
BEGIN:VALARM
ACTION:DISPLAY
DESCRIPTION:Manifestación "Vivotecnia a juicio"
TRIGGER:-PT1H
END:VALARM
END:VEVENT
END:VCALENDAR
