BEGIN:VCALENDAR
VERSION:2.0
CALSCALE:GREGORIAN
PRODID:adamgibbons/ics
METHOD:PUBLISH
X-PUBLISHED-TTL:PT1H
BEGIN:VEVENT
UID:27027@mad.convoca.la
SUMMARY:Marcha 8Marzo desde Tetuán
DTSTAMP:20260421T043145Z
DTSTART:20260308T093000Z
DTEND:20260308T100000Z
DESCRIPTION:Desde 🔥Feminismos Tetuán 💜🔥marchamos juntas para la mani de rec
	orrido Atocha\n- Sol.\n\nA las 10:30 haremos pancartas y leeremos el manif
	iesto.\n\nA las 11:00 rumbo a la mani todxs juntxs. ❤️‍🔥
URL:https://mad.convoca.la/event/marcha-8marzo-desde-tetuan
LOCATION:Plaza de las Palomas - Plaza Canal Isabel II
STATUS:CONFIRMED
CATEGORIES:
X-ALT-DESC;FMTTYPE=text/html:<p>Desde 🔥Feminismos Tetuán 💜🔥marchamos juntas
	 para la mani de recorrido Atocha - Sol. </p><p>A las 10:30 haremos pancar
	tas y leeremos el manifiesto.</p><p>A las 11:00 rumbo a la mani todxs junt
	xs. ❤️‍🔥</p>
BEGIN:VALARM
ACTION:DISPLAY
DESCRIPTION:Marcha 8Marzo desde Tetuán
TRIGGER:-PT1H
END:VALARM
END:VEVENT
END:VCALENDAR
