BEGIN:VCALENDAR
VERSION:2.0
CALSCALE:GREGORIAN
PRODID:adamgibbons/ics
METHOD:PUBLISH
X-PUBLISHED-TTL:PT1H
BEGIN:VEVENT
UID:27026@mad.convoca.la
SUMMARY:Marcha aborto en la pública
DTSTAMP:20260421T043122Z
DTSTART:20260307T100000Z
DTEND:20260307T120000Z
URL:https://mad.convoca.la/event/marcha-aborto-en-la-publica
LOCATION:Mercado de Tetuán - Mercado Municipal de Tetuán
STATUS:CONFIRMED
CATEGORIES:
BEGIN:VALARM
ACTION:DISPLAY
DESCRIPTION:Marcha aborto en la pública
TRIGGER:-PT1H
END:VALARM
END:VEVENT
END:VCALENDAR
