BEGIN:VCALENDAR
VERSION:2.0
CALSCALE:GREGORIAN
PRODID:adamgibbons/ics
METHOD:PUBLISH
X-PUBLISHED-TTL:PT1H
BEGIN:VEVENT
UID:27025@mad.convoca.la
SUMMARY:Palestinas y Resistentes
DTSTAMP:20260421T043116Z
DTSTART:20260307T110000Z
DTEND:20260307T160000Z
DESCRIPTION:🪻Evento pre-8M con @alkarama_pal - Movimiento de Mujeres Palest
	inas.🇵🇸\n\n💬 Charla\n\n🔥 Mercadillo/taller de ropa tuneada\n\n🍛 Comida popu
	lar (en espacio separado para respetar ramadán 💜)\n\n📍7 de marzo hasta las
	 17h en Centro Social 3 Peces 3 Lavapiés
URL:https://mad.convoca.la/event/palestinas-y-resistentes
LOCATION:CSA 3pece3 - Calle de los Tres Peces\, 3\, Centro\, 28012 Madrid
STATUS:CONFIRMED
CATEGORIES:AcampadaxPalestina,8M,AlKarama
X-ALT-DESC;FMTTYPE=text/html:<p>🪻Evento pre-8M con @alkarama_pal - Movimien
	to de Mujeres Palestinas.🇵🇸</p><p>💬 Charla</p><p>🔥 Mercadillo/taller de rop
	a tuneada</p><p>🍛 Comida popular (en espacio separado para respetar ramadá
	n 💜)</p><p>📍7 de marzo hasta las 17h en Centro Social 3 Peces 3 Lavapiés</
	p>
BEGIN:VALARM
ACTION:DISPLAY
DESCRIPTION:Palestinas y Resistentes
TRIGGER:-PT1H
END:VALARM
END:VEVENT
END:VCALENDAR
