BEGIN:VCALENDAR
VERSION:2.0
CALSCALE:GREGORIAN
PRODID:adamgibbons/ics
METHOD:PUBLISH
X-PUBLISHED-TTL:PT1H
BEGIN:VEVENT
UID:27009@mad.convoca.la
SUMMARY:¿QUIÉNES ROBAN NUESTRAS CASAS? - DEBATE SOBRE FONDOS DE INVERSIÓN\,
	 RENTISMO POPULAR Y OTROS PARÁSITOS
DTSTAMP:20260421T043424Z
DTSTART:20260314T180000Z
DTEND:20260314T220000Z
DESCRIPTION:🤔Hablaremos con Pablo Carmona sobre su libro "La democracia de 
	los\npropietarios" y sobre cómo han evolucionado los procesos inmobiliario
	s en los\núltimos años desde su publicación.\n\n💸Hablaremos sobre distinta
	s formas de rentismo y especulación\, fijándonos\ntambién en las posibles 
	propuestas de políticas públicas y su verdadera\nutilidad.\n\n✊🏾Por supues
	to\, reflexionaremos sobre cómo adaptar nuestras dinámicas de lucha\ny def
	ensa por una vivienda digna ante los parásitos rentistas que nos amenazan\
	nhoy en día. Para ello contaremos con el Sindicato de Inquilinas y os invi
	tamos a\ntodes a participar libre y abiertamente en la conversación!!!\n\n
	🪇 Y después de tanto hablar\, quédate a cenar con nosotres en la Pilu y a\
	nbailotear con la música de DJ Tati Fracasoooo\n\nNos vemos el sábado 14 💋
URL:https://mad.convoca.la/event/quienes-roban-nuestras-casas-debate-sobre-
	fondos-de-inversion-rentismo-popular-y-otros-parasitos
GEO:40.4767175;-3.7073351
LOCATION:CSA La Piluka - Plaza de Corcubión 16
STATUS:CONFIRMED
CATEGORIES:
X-ALT-DESC;FMTTYPE=text/html:<p></p><p>🤔Hablaremos con <em>Pablo Carmona</e
	m> sobre su libro <em>"La democracia de los propietarios"</em> y sobre cóm
	o han evolucionado los procesos inmobiliarios en los últimos años desde su
	 publicación. </p><p>💸Hablaremos sobre distintas formas de rentismo y espe
	culación, fijándonos también en las posibles propuestas de políticas públi
	cas y su verdadera utilidad. </p><p>✊🏾Por supuesto, reflexionaremos sobre 
	cómo adaptar nuestras dinámicas de lucha y defensa por una vivienda digna 
	ante los parásitos rentistas que nos amenazan hoy en día. Para ello contar
	emos con el <em>Sindicato de Inquilinas</em> y os invitamos a todes a part
	icipar libre y abiertamente en la conversación!!! </p><p>🪇 Y después de ta
	nto hablar, quédate a <em>cenar con nosotres</em> en la Pilu y a bailotear
	 con la música de <em>DJ Tati Fracasoooo</em></p><p>Nos vemos el sábado 14
	 💋</p>
BEGIN:VALARM
ACTION:DISPLAY
DESCRIPTION:¿QUIÉNES ROBAN NUESTRAS CASAS? - DEBATE SOBRE FONDOS DE INVERSI
	ÓN, RENTISMO POPULAR Y OTROS PARÁSITOS
TRIGGER:-PT1H
END:VALARM
END:VEVENT
END:VCALENDAR
