BEGIN:VCALENDAR
VERSION:2.0
CALSCALE:GREGORIAN
PRODID:adamgibbons/ics
METHOD:PUBLISH
X-PUBLISHED-TTL:PT1H
BEGIN:VEVENT
UID:27030@mad.convoca.la
SUMMARY:Reclama nocturna 8m
DTSTAMP:20260421T043116Z
DTSTART:20260306T193000Z
DTEND:20260306T225500Z
DESCRIPTION:Contra la impunidad fascista\n\nORGANIZACIÓN TRANSFEMINISTA
URL:https://mad.convoca.la/event/reclama-nocturna-8m
LOCATION:metro sierra de guadalupe - sierra de guadalupe
STATUS:CONFIRMED
CATEGORIES:Transfeminista
X-ALT-DESC;FMTTYPE=text/html:<p>Contra la impunidad fascista</p><p>ORGANIZA
	CIÓN TRANSFEMINISTA</p>
BEGIN:VALARM
ACTION:DISPLAY
DESCRIPTION:Reclama nocturna 8m
TRIGGER:-PT1H
END:VALARM
END:VEVENT
END:VCALENDAR
