BEGIN:VCALENDAR
VERSION:2.0
CALSCALE:GREGORIAN
PRODID:adamgibbons/ics
METHOD:PUBLISH
X-PUBLISHED-TTL:PT1H
BEGIN:VEVENT
UID:27366@mad.convoca.la
SUMMARY:Taller de reparaciones participativas 'Repair Café'
DTSTAMP:20260426T040641Z
DTSTART:20260428T163000Z
DTEND:20260428T183000Z
DESCRIPTION:¡Aquí no se tira nada! ¿Tienes algún juguete o cacharro averiad
	o? 🤔 ¿Intentas\nsalvarlo\, reparando\, disfrutando y cuidando el planeta🌍 
	reduciendo residuos? 🌿\n\nTe ayudamos gratuitamente sin inscripción previa
	\, más de la mitad se reparan en\nla primera sesión según estadísticas\n[h
	ttps://dashboard.repairmonitor.org/?cafe=250&country=es&year=all].\n\nSi e
	res manitas y quieres colaborar\, vente con alguna herramienta y lo pasare
	mos\nbien.\n\nPor el Derecho a Reparar\, +info: makespacemadrid.org\n[http
	s://makespacemadrid.org] - madridrepair.blogspot.com\n[https://madridrepai
	r.blogspot.com]
URL:https://mad.convoca.la/event/taller-de-reparaciones-participativas-repa
	ir-cafe-17
LOCATION:MakeSpace - Calle Ruiz Palacios 7
STATUS:CONFIRMED
CATEGORIES:Taller,Tetuán,RepairCaféMadrid,Reparación,makers
X-ALT-DESC;FMTTYPE=text/html:<p>¡Aquí no se tira nada! ¿Tienes algún juguet
	e o cacharro averiado? 🤔 ¿Intentas salvarlo, reparando, disfrutando y cuid
	ando el planeta🌍 reduciendo residuos? 🌿<br><br>Te ayudamos gratuitamente s
	in inscripción previa, más de la mitad se reparan en la primera sesión seg
	ún <a target="_blank" href="https://dashboard.repairmonitor.org/?cafe=250&
	amp;country=es&amp;year=all">estadísticas</a>.</p><p>Si eres manitas y qui
	eres colaborar, vente con alguna herramienta y lo pasaremos bien.</p><p>Po
	r el Derecho a Reparar, +info: <a target="_blank" href="https://makespacem
	adrid.org">makespacemadrid.org</a> - <a target="_blank" href="https://madr
	idrepair.blogspot.com">madridrepair.blogspot.com</a></p>
BEGIN:VALARM
ACTION:DISPLAY
DESCRIPTION:Taller de reparaciones participativas 'Repair Café'
TRIGGER:-PT1H
END:VALARM
END:VEVENT
END:VCALENDAR
