BEGIN:VCALENDAR
VERSION:2.0
CALSCALE:GREGORIAN
PRODID:adamgibbons/ics
METHOD:PUBLISH
X-PUBLISHED-TTL:PT1H
BEGIN:VEVENT
UID:27329@mad.convoca.la
SUMMARY:NO Normal
DTSTAMP:20260421T114820Z
DTSTART:20260424T163000Z
DTEND:20260425T053000Z
URL:https://mad.convoca.la/event/no-normal-1
LOCATION:observatorio de sostenibilidad - ferrocaril 56
STATUS:CONFIRMED
CATEGORIES:
END:VEVENT
END:VCALENDAR
